BEGIN:VCALENDAR
VERSION:2.0
PRODID:-//PS Demo site - ECPv6.15.15//NONSGML v1.0//EN
CALSCALE:GREGORIAN
METHOD:PUBLISH
X-ORIGINAL-URL:https://demo.perimeter-solutions.com/de/
X-WR-CALDESC:Veranstaltungen für PS Demo site
REFRESH-INTERVAL;VALUE=DURATION:PT1H
X-Robots-Tag:noindex
X-PUBLISHED-TTL:PT1H
BEGIN:VTIMEZONE
TZID:America/New_York
BEGIN:DAYLIGHT
TZOFFSETFROM:-0500
TZOFFSETTO:-0400
TZNAME:EDT
DTSTART:20220313T070000
END:DAYLIGHT
BEGIN:STANDARD
TZOFFSETFROM:-0400
TZOFFSETTO:-0500
TZNAME:EST
DTSTART:20221106T060000
END:STANDARD
BEGIN:DAYLIGHT
TZOFFSETFROM:-0500
TZOFFSETTO:-0400
TZNAME:EDT
DTSTART:20230312T070000
END:DAYLIGHT
BEGIN:STANDARD
TZOFFSETFROM:-0400
TZOFFSETTO:-0500
TZNAME:EST
DTSTART:20231105T060000
END:STANDARD
BEGIN:DAYLIGHT
TZOFFSETFROM:-0500
TZOFFSETTO:-0400
TZNAME:EDT
DTSTART:20240310T070000
END:DAYLIGHT
BEGIN:STANDARD
TZOFFSETFROM:-0400
TZOFFSETTO:-0500
TZNAME:EST
DTSTART:20241103T060000
END:STANDARD
END:VTIMEZONE
BEGIN:VEVENT
DTSTART;VALUE=DATE:20231016
DTEND;VALUE=DATE:20231018
DTSTAMP:20260422T115311
CREATED:20230125T175244Z
LAST-MODIFIED:20230125T175244Z
UID:43912-1697414400-1697587199@demo.perimeter-solutions.com
SUMMARY:Konferenz und Ausstellung für Brandbekämpfung aus der Luft in Europa
DESCRIPTION:Perimeter Solutions wird auf der Aerial Firefighting Europe Konferenz und Ausstellung ausstellen Datum: Oct 16-17\, 2023 Ort: Athen\, Griechenland Für weitere Informationen besuchen Sie: https://tangentlink-events.com/affe
URL:https://demo.perimeter-solutions.com/de/event/konferenz-und-ausstellung-fuer-brandbekaempfung-aus-der-luft-in-europa/
ATTACH;FMTTYPE=image/jpeg:https://demo.perimeter-solutions.com/wp-content/uploads/2023/01/aerial-fire-europe.jpg
END:VEVENT
END:VCALENDAR